BEGIN:VCALENDAR
VERSION:2.0
PRODID:-//ChamberMaster//Event Calendar 2.0//EN
METHOD:PUBLISH
X-PUBLISHED-TTL:P3D
REFRESH-INTERVAL:P3D
CALSCALE:GREGORIAN
BEGIN:VEVENT
DTSTART:20170129T050000Z
DTEND:20170129T090000Z
X-MICROSOFT-CDO-ALLDAYEVENT:FALSE
SUMMARY:6th Annual 40 Below Ball
DESCRIPTION:In the frozen north we all need a reason to dress up and dance! Join the Ballroom Dance Club of Fairbanks for the 6th Annual 40 Below Ball. This formal event features hors d'oeuvres\, no host bar\, and dancing\, dancing\, dancing. Tickets available at In My Element\, Frank's Menswear\, Alaska Feed\, Online\, and all BDCF events. $35 single\, $65 couples in advance $40 single\, $70 couples at the door
X-ALT-DESC;FMTTYPE=text/html:In the frozen north we all need a reason to dress up and dance! Join the Ballroom Dance Club of Fairbanks for the 6th Annual 40 Below Ball. This formal event features hors d&rsquo\;oeuvres\, no host bar\, and dancing\, dancing\, dancing. Tickets available at In My Element\, Frank&#39\;s Menswear\, Alaska Feed\, Online\, and all BDCF events. $35 single\, $65 couples in advance $40 single\, $70 couples at the door
LOCATION:Westmark Hotel\, Gold Room
UID:e.106.17401
SEQUENCE:3
DTSTAMP:20260422T011804Z
URL:https://www.fairbankschamber.org/events/details/6th-annual-40-below-ball-17401
END:VEVENT

END:VCALENDAR
