BEGIN:VCALENDAR
VERSION:2.0
PRODID:-//ChamberMaster//Event Calendar 2.0//EN
METHOD:PUBLISH
X-PUBLISHED-TTL:P3D
REFRESH-INTERVAL:P3D
CALSCALE:GREGORIAN
BEGIN:VEVENT
DTSTART:20160611T170000Z
DTEND:20160612T000000Z
X-MICROSOFT-CDO-ALLDAYEVENT:FALSE
SUMMARY:3D Printing Workshop
DESCRIPTION:Interested in learning about 3D printing? Join us for a one day workshop and learn about 3D modeling and printing. Saturday\, June 11th from 9:00 - 4:00. Register at UAOnline or in person at the UAF - Community & Technical College\, 604 Barnette Street.
X-ALT-DESC;FMTTYPE=text/html:Interested in learning about 3D printing? Join us for a one day workshop and learn about 3D modeling and printing. Saturday\, June 11th from 9:00 - 4:00. Register at UAOnline or in person at the UAF - Community &amp\; Technical College\, 604 Barnette Street.
LOCATION:UAF - Community & Technical College 604 Barnette Street
UID:e.106.16548
SEQUENCE:3
DTSTAMP:20260424T084911Z
URL:https://www.fairbankschamber.org/events/details/3d-printing-workshop-06-11-2016-16548
END:VEVENT

END:VCALENDAR
