BEGIN:VCALENDAR
VERSION:2.0
PRODID:-//ChamberMaster//Event Calendar 2.0//EN
METHOD:PUBLISH
X-PUBLISHED-TTL:P3D
REFRESH-INTERVAL:P3D
CALSCALE:GREGORIAN
BEGIN:VEVENT
DTSTART;VALUE=DATE:20170429
DTEND;VALUE=DATE:20170430
TRANSP:TRANSPARENT
X-MICROSOFT-CDO-ALLDAYEVENT:TRUE
SUMMARY:3D Modeling and Printing Workshop
DESCRIPTION:Basic introduction to 3D Modeling and Printing using Autodesk Inventor.
X-ALT-DESC;FMTTYPE=text/html:Basic introduction to 3D Modeling and Printing using Autodesk Inventor.
LOCATION:604 Barnette Street room 307
UID:e.106.18806
SEQUENCE:3
DTSTAMP:20260421T203229Z
URL:https://www.fairbankschamber.org/events/details/3d-modeling-and-printing-workshop-04-29-2017-18806
END:VEVENT

END:VCALENDAR
