BEGIN:VCALENDAR
VERSION:2.0
PRODID:-//ChamberMaster//Event Calendar 2.0//EN
METHOD:PUBLISH
X-PUBLISHED-TTL:P3D
REFRESH-INTERVAL:P3D
CALSCALE:GREGORIAN
BEGIN:VEVENT
DTSTART:20241017T150000Z
DTEND:20241017T160000Z
X-MICROSOFT-CDO-ALLDAYEVENT:FALSE
SUMMARY:2024 Transportation & Infrastructure Committee Meeting
DESCRIPTION:
X-ALT-DESC;FMTTYPE=text/html:
LOCATION:
UID:e.106.31834
SEQUENCE:3
DTSTAMP:20260419T212500Z
URL:https://www.fairbankschamber.org/events/details/2024-transportation-infrastructure-committee-meeting-10-17-2024-31834
END:VEVENT

END:VCALENDAR
