BEGIN:VCALENDAR
VERSION:2.0
PRODID:-//ChamberMaster//Event Calendar 2.0//EN
METHOD:PUBLISH
X-PUBLISHED-TTL:P3D
REFRESH-INTERVAL:P3D
CALSCALE:GREGORIAN
BEGIN:VEVENT
DTSTART:20241023T160000Z
DTEND:20241023T170000Z
X-MICROSOFT-CDO-ALLDAYEVENT:FALSE
SUMMARY:2024 Energy\, Environment & Natural Resources Committee
DESCRIPTION:
X-ALT-DESC;FMTTYPE=text/html:
LOCATION:
UID:e.106.31860
SEQUENCE:3
DTSTAMP:20260421T090512Z
URL:https://www.fairbankschamber.org/events/details/2024-energy-environment-natural-resources-committee-10-23-2024-31860
END:VEVENT

END:VCALENDAR
