BEGIN:VCALENDAR
VERSION:2.0
PRODID:-//ChamberMaster//Event Calendar 2.0//EN
METHOD:PUBLISH
X-PUBLISHED-TTL:P3D
REFRESH-INTERVAL:P3D
CALSCALE:GREGORIAN
BEGIN:VEVENT
DTSTART:20170305T200000Z
DTEND:20170306T010000Z
X-MICROSOFT-CDO-ALLDAYEVENT:FALSE
SUMMARY:2017 Interior Wedding Showcase
DESCRIPTION:The Interior Wedding Showcase is the largest Wedding Showcase in the interior of Alaska. Vendors come from across the state and even from outside to attend this show. Here you can find almost everything you need to create your special day\, from jewelry\, to flowers\, and cakes\, even a place to have the wedding and a place to stay. Do not miss this opportunity. Vendor space may still be available!
X-ALT-DESC;FMTTYPE=text/html:The Interior Wedding Showcase is the largest Wedding Showcase in the interior of Alaska. Vendors come from across the state and even from outside to attend this show. Here you can find almost everything you need to create your special day\, from jewelry\, to flowers\, and cakes\, even a place to have the wedding and a place to stay. Do not miss this opportunity. Vendor space may still be available!
LOCATION:Westmark Hotel Fairbanks AK
UID:e.106.17305
SEQUENCE:3
DTSTAMP:20260421T220007Z
URL:https://www.fairbankschamber.org/events/details/2017-interior-wedding-showcase-17305
END:VEVENT

END:VCALENDAR
