BEGIN:VCALENDAR
VERSION:2.0
PRODID:-//ChamberMaster//Event Calendar 2.0//EN
METHOD:PUBLISH
X-PUBLISHED-TTL:P3D
REFRESH-INTERVAL:P3D
CALSCALE:GREGORIAN
BEGIN:VEVENT
DTSTART:20170805T170000Z
DTEND:20170806T000000Z
X-MICROSOFT-CDO-ALLDAYEVENT:FALSE
SUMMARY:2017 Eielson AFB Open House
DESCRIPTION:Eielson is hosting an Open House to highlight Red Flag-Alaska and the 70th Air Force Birthday. Event will included static display's from JBER\, Eielson\, Fort Wainwright\, and more to include aircraft\, military vehicles\, and much\, much more.
X-ALT-DESC;FMTTYPE=text/html:Eielson is hosting an Open House to highlight Red Flag-Alaska and the 70th Air Force Birthday. Event will included static display&#39\;s from JBER\, Eielson\, Fort Wainwright\, and more to include aircraft\, military vehicles\, and much\, much more.
LOCATION:Eielson AFB
UID:e.106.17619
SEQUENCE:3
DTSTAMP:20260421T145551Z
URL:https://www.fairbankschamber.org/events/details/2017-eielson-afb-open-house-17619
END:VEVENT

END:VCALENDAR
