BEGIN:VCALENDAR
VERSION:2.0
PRODID:-//ChamberMaster//Event Calendar 2.0//EN
METHOD:PUBLISH
X-PUBLISHED-TTL:P3D
REFRESH-INTERVAL:P3D
CALSCALE:GREGORIAN
BEGIN:VEVENT
DTSTART:20170217T000000Z
DTEND:20170217T020000Z
X-MICROSOFT-CDO-ALLDAYEVENT:FALSE
SUMMARY:2017 Budget Blitz: State of Alaska Budget Presentations
DESCRIPTION:Our Alaska state budget is at a critical juncture. It is of utmost importance to Alaska's future. With Alaska State expenditures exceeding revenues by more than $3 Billion dollars\, there is no easy solution to balancing the State budget. Achieving long-term fiscal stability\, affordability and sustainability for the State of Alaska will require a mix of continued cuts to government spending and increased revenues including use of State investment earnings. Therefore\, FEDC\, in partnership with the Fairbanks Chamber of Commerce\, are presenting the 2017 Budget Blitz. We will offer two presentations by renowned Alaska-focused experts\, Gunnar Knapp\, PhD and Brad Keithley\, JD. All are invited\, Wednesday\, February 15 from 10am-12pm and Thursday\, February 16 from 3pm-5pm at the Carlson Center. Gunnar Knapp will be presenting on Wednesday and Brad Keithley on Thursday. It is FREE and open to anyone interested in learning more about the options surrounding a fiscal solution for our state budget.
X-ALT-DESC;FMTTYPE=text/html:Our Alaska state budget is at a critical juncture. It is of utmost importance to Alaska&#39\;s future. With Alaska State expenditures exceeding revenues by more than $3 Billion dollars\, there is no easy solution to balancing the State budget. Achieving long-term fiscal stability\, affordability and sustainability for the State of Alaska will require a mix of continued cuts to government spending and increased revenues including use of State investment earnings. Therefore\, FEDC\, in partnership with the Fairbanks Chamber of Commerce\, are presenting the 2017 Budget Blitz. We will offer two presentations by renowned Alaska-focused experts\, Gunnar Knapp\, PhD and Brad Keithley\, JD. All are invited\, Wednesday\, February 15 from 10am-12pm and Thursday\, February 16 from 3pm-5pm at the Carlson Center. Gunnar Knapp will be presenting on Wednesday and Brad Keithley on Thursday. It is FREE and open to anyone interested in learning more about the options surrounding a fiscal solution for our state budget.
LOCATION:Carlson Center
UID:e.106.17636
SEQUENCE:3
DTSTAMP:20260421T234408Z
URL:https://www.fairbankschamber.org/events/details/2017-budget-blitz-state-of-alaska-budget-presentations-17636
END:VEVENT

END:VCALENDAR
