BEGIN:VCALENDAR
VERSION:2.0
PRODID:-//ChamberMaster//Event Calendar 2.0//EN
METHOD:PUBLISH
X-PUBLISHED-TTL:P3D
REFRESH-INTERVAL:P3D
CALSCALE:GREGORIAN
BEGIN:VEVENT
DTSTART:20160911T023000Z
DTEND:20160911T073000Z
X-MICROSOFT-CDO-ALLDAYEVENT:FALSE
SUMMARY:2016 Opera Ball
DESCRIPTION:Dine and dance the night away at the 2016 Opera Ball! Featuring live operatic performances from Strauss' Die Fledermaus with soloists\, chamber orchestra\, dinner\, champagne toast and a chance to win various prizes. Formal attire requested\, masks and costumes are optional. Opera Ball tickets are now on sale! You can purchase your tickets (cash or check) at any one of our 4 ticket outlets in Fairbanks: In My Element\, If Only . . . A Fine Store\, Arctic Travelers Gift Shop\, and Teamcutters! You can also purchase by credit card or Paypal online.
X-ALT-DESC;FMTTYPE=text/html:Dine and dance the night away at the 2016 Opera Ball! Featuring live operatic performances from Strauss&#39\; Die Fledermaus with soloists\, chamber orchestra\, dinner\, champagne toast and a chance to win various prizes. Formal attire requested\, masks and costumes are optional. Opera Ball tickets are now on sale! You can purchase your tickets (cash or check) at any one of our 4 ticket outlets in Fairbanks: In My Element\, If Only . . . A Fine Store\, Arctic Travelers Gift Shop\, and Teamcutters! You can also purchase by credit card or Paypal online.
LOCATION:Westmark Hotel
UID:e.106.16658
SEQUENCE:3
DTSTAMP:20260422T071751Z
URL:https://www.fairbankschamber.org/events/details/2016-opera-ball-09-10-2016-16658
END:VEVENT

END:VCALENDAR
